BEGIN:VCALENDAR
VERSION:2.0
PRODID:-//Olm Wellness - ECPv6.15.20//NONSGML v1.0//EN
CALSCALE:GREGORIAN
METHOD:PUBLISH
X-ORIGINAL-URL:https://olmwellness.com
X-WR-CALDESC:Events for Olm Wellness
REFRESH-INTERVAL;VALUE=DURATION:PT1H
X-Robots-Tag:noindex
X-PUBLISHED-TTL:PT1H
BEGIN:VTIMEZONE
TZID:America/New_York
BEGIN:DAYLIGHT
TZOFFSETFROM:-0500
TZOFFSETTO:-0400
TZNAME:EDT
DTSTART:20240310T070000
END:DAYLIGHT
BEGIN:STANDARD
TZOFFSETFROM:-0400
TZOFFSETTO:-0500
TZNAME:EST
DTSTART:20241103T060000
END:STANDARD
BEGIN:DAYLIGHT
TZOFFSETFROM:-0500
TZOFFSETTO:-0400
TZNAME:EDT
DTSTART:20250309T070000
END:DAYLIGHT
BEGIN:STANDARD
TZOFFSETFROM:-0400
TZOFFSETTO:-0500
TZNAME:EST
DTSTART:20251102T060000
END:STANDARD
BEGIN:DAYLIGHT
TZOFFSETFROM:-0500
TZOFFSETTO:-0400
TZNAME:EDT
DTSTART:20260308T070000
END:DAYLIGHT
BEGIN:STANDARD
TZOFFSETFROM:-0400
TZOFFSETTO:-0500
TZNAME:EST
DTSTART:20261101T060000
END:STANDARD
END:VTIMEZONE
BEGIN:VEVENT
DTSTART;TZID=America/New_York:20251121T190000
DTEND;TZID=America/New_York:20251121T201500
DTSTAMP:20260423T200000
CREATED:20251111T073301Z
LAST-MODIFIED:20251111T073301Z
UID:714-1763751600-1763756100@olmwellness.com
SUMMARY:Sacred Sound Bath Experience: Grateful & Grounded
DESCRIPTION:Before the busyness of the holiday season begins\, take time to pause\, breathe\, and rest in gratitude. This sound bath invites you to cultivate stability and a thankful heart through soothing vibrations and stillness\, giving thanks in all circumstances.\n\n\n\nAll sound baths are unique and one-of-a-kind experiences. Never two of the same. My sound baths are intuitive\, and Spirit-guided to meet all individuals in attendance at the level they require. Bring a journal\, mat\, blanket\, pillow\, anything that will help you to get comfortable and slip into a state of bliss. Feel free to bring a crystal or any other personal or sacred item you would like to infuse with the combined energy of the sound bath. \nSign up here eventbrite \nSign up here momence
URL:https://olmwellness.com/event/sacred-sound-bath-experience-grateful-grounded/
LOCATION:Soul Sanctuary\, 808 Tiogue Ave\, Coventry\, RI\, RI\, 02816\, United States
ATTACH;FMTTYPE=image/png:https://olmwellness.com/wp-content/uploads/2025/11/sound-bath-Instagram-Post-3.png
END:VEVENT
END:VCALENDAR