BEGIN:VCALENDAR
VERSION:2.0
PRODID:-//Olm Wellness - ECPv6.15.20//NONSGML v1.0//EN
CALSCALE:GREGORIAN
METHOD:PUBLISH
X-WR-CALNAME:Olm Wellness
X-ORIGINAL-URL:https://olmwellness.com
X-WR-CALDESC:Events for Olm Wellness
REFRESH-INTERVAL;VALUE=DURATION:PT1H
X-Robots-Tag:noindex
X-PUBLISHED-TTL:PT1H
BEGIN:VTIMEZONE
TZID:America/New_York
BEGIN:DAYLIGHT
TZOFFSETFROM:-0500
TZOFFSETTO:-0400
TZNAME:EDT
DTSTART:20240310T070000
END:DAYLIGHT
BEGIN:STANDARD
TZOFFSETFROM:-0400
TZOFFSETTO:-0500
TZNAME:EST
DTSTART:20241103T060000
END:STANDARD
BEGIN:DAYLIGHT
TZOFFSETFROM:-0500
TZOFFSETTO:-0400
TZNAME:EDT
DTSTART:20250309T070000
END:DAYLIGHT
BEGIN:STANDARD
TZOFFSETFROM:-0400
TZOFFSETTO:-0500
TZNAME:EST
DTSTART:20251102T060000
END:STANDARD
BEGIN:DAYLIGHT
TZOFFSETFROM:-0500
TZOFFSETTO:-0400
TZNAME:EDT
DTSTART:20260308T070000
END:DAYLIGHT
BEGIN:STANDARD
TZOFFSETFROM:-0400
TZOFFSETTO:-0500
TZNAME:EST
DTSTART:20261101T060000
END:STANDARD
END:VTIMEZONE
BEGIN:VEVENT
DTSTART;TZID=America/New_York:20250906T101500
DTEND;TZID=America/New_York:20250906T141500
DTSTAMP:20260423T233850
CREATED:20250617T164336Z
LAST-MODIFIED:20250617T170701Z
UID:667-1757153700-1757168100@olmwellness.com
SUMMARY:Usui Holy Fire III Reiki Certification Level I with Shelley 2025
DESCRIPTION:Reiki Level I training is back! \nReiki is a Japanese form of energy healing in which universal healing energy is transferred through the palms of the practitioner to the patient in order to activate the body’s natural healing processes and restore physical and emotional well-being. \nThis Level I certification allows you to begin to heal yourself as well as pets and animals and is a prerequisite for Reiki Level II. \nIn this workshop\, you will learn the history of Reiki and how it works to heal. You will learn the positioning of hands\, give and receive Reiki treatments and receive an attunement from Reiki Master Shelley Olm. \nSpace is limited. \nSign up here!
URL:https://olmwellness.com/event/667/
LOCATION:YONO Yoga & Meditation\, 59 Church Street\, Willimantic\, CT\, 06226\, United States
ATTACH;FMTTYPE=image/jpeg:https://olmwellness.com/wp-content/uploads/2024/01/reiki.jpg
END:VEVENT
BEGIN:VEVENT
DTSTART;TZID=America/New_York:20250907T100000
DTEND;TZID=America/New_York:20250907T111500
DTSTAMP:20260423T233850
CREATED:20250707T151426Z
LAST-MODIFIED:20250707T151426Z
UID:685-1757239200-1757243700@olmwellness.com
SUMMARY:Yogamantic 2025! FREE Event
DESCRIPTION:Mark your calendars for the 7th annual YOGAMANTIC at Jillson Square! \nThis is a FREE event open to all. \nWe invite you to help us “stuff the trucks” and support our community. \nWe will have two trucks on-site for collecting donations. One truck will be for the animal rescue organization\, Wings of Freedom\, to help provide essential supplies for animals in need. The other truck will be for area shelters and the No Freeze Project\, aiding individuals and families. \nPlease check the websites above for a more detailed list of items needed. We greatly appreciate any non-perishable items or food donations you can provide. Together\, we can make a difference for both animals and people in our community.
URL:https://olmwellness.com/event/yogamantic-2025-free-event/
LOCATION:RI
ATTACH;FMTTYPE=image/jpeg:https://olmwellness.com/wp-content/uploads/2025/07/yogamantic.jpg
END:VEVENT
BEGIN:VEVENT
DTSTART;VALUE=DATE:20250926
DTEND;VALUE=DATE:20250928
DTSTAMP:20260423T233850
CREATED:20250911T134017Z
LAST-MODIFIED:20250911T134017Z
UID:700-1758844800-1759017599@olmwellness.com
SUMMARY:Harmony of Heaven: Intutitive Sound Bath facilitator Training
DESCRIPTION:THIS EVENT IS SOLD OUT: REACH OUT OR STAY TUNED FOR MORE TRAINING DATES \nThis unique two-day training is rooted in following your intuition and listening to the still\, small voice of the Holy Spirit. Together\, we explore sound not just as vibration\, but as a sacred tool for healing and connection. \nDay 1 is hands-on discovery. You’ll learn the history and use of each instrument \, from bowls and gongs to drums\, chimes\, and more. We explore how they work individually\, how their frequencies affect the body and mind\, and how to hold them in a way that feels natural and Spirit-led. \nDay 2 is about weaving it all together. You’ll learn practical ways to sequence and facilitate a sound bath while practicing the art of deep listening\, to yourself\, to Spirit\, and to those you’re holding space for. Through active practice\, you’ll gain the confidence and sensitivity to guide sound baths that are both intuitive and transformative. \nThis training isn’t about rigid formulas\, it’s about awakening your ear\, your heart\, and your spirit to become a vessel for healing sound.
URL:https://olmwellness.com/event/harmony-of-heaven-intutitive-sound-bath-facilitator-training/
LOCATION:RI
ATTACH;FMTTYPE=image/jpeg:https://olmwellness.com/wp-content/uploads/2024/08/Olm-Wellness-SoundBath.jpg
END:VEVENT
BEGIN:VEVENT
DTSTART;TZID=America/New_York:20250928T170000
DTEND;TZID=America/New_York:20250928T180000
DTSTAMP:20260423T233850
CREATED:20250911T155247Z
LAST-MODIFIED:20250911T155247Z
UID:709-1759078800-1759082400@olmwellness.com
SUMMARY:FREE Outdoor Sound Bath with Shelley & Jessica
DESCRIPTION:Join us for a deeply relaxing outdoor sound bath experience Mansfield\, Connecticut. The address will be sent to you after you sign up. Let the healing vibrations of crystal bowls\, rattles\, drums\, chimes\, bells\, gongs\, and the human voice guide you into a state of rest\, renewal\, and inner harmony. This sound bath is an opportunity to unplug from the outside world\, rest deeply\, and reconnect with your inner stillness. \nWhat to Bring\n\n\nA blanket and yoga mat\, or a zero-gravity chair for comfort \n\n\nExtra blankets or pillows to help you feel fully supported \n\n\nComfortable clothing that allows you to relax completely \n\nOutwear in case it gets chilly\n\nThere are a few hammocks available that can be reserved on a first-come\, first-served basis. \nParking & Arrival\n\n\nDriveway parking is reserved for participants with lower mobility. \n\n\nAll other guests may park at Sunny Acres Parking Lot or the ECSU track lot nearby. \n\n\nPlease arrive at least 15 minutes early to allow time to park\, settle in\, and prepare for the experience. \n\n\nPlease register here.
URL:https://olmwellness.com/event/free-outdoor-sound-bath-with-shelley-jessica/
LOCATION:RI
ATTACH;FMTTYPE=image/jpeg:https://olmwellness.com/wp-content/uploads/2025/09/shelley-and-Jess-scaled.jpg
END:VEVENT
END:VCALENDAR