BEGIN:VCALENDAR
VERSION:2.0
PRODID:-//Olm Wellness - ECPv6.15.20//NONSGML v1.0//EN
CALSCALE:GREGORIAN
METHOD:PUBLISH
X-ORIGINAL-URL:https://olmwellness.com
X-WR-CALDESC:Events for Olm Wellness
REFRESH-INTERVAL;VALUE=DURATION:PT1H
X-Robots-Tag:noindex
X-PUBLISHED-TTL:PT1H
BEGIN:VTIMEZONE
TZID:America/New_York
BEGIN:DAYLIGHT
TZOFFSETFROM:-0500
TZOFFSETTO:-0400
TZNAME:EDT
DTSTART:20240310T070000
END:DAYLIGHT
BEGIN:STANDARD
TZOFFSETFROM:-0400
TZOFFSETTO:-0500
TZNAME:EST
DTSTART:20241103T060000
END:STANDARD
BEGIN:DAYLIGHT
TZOFFSETFROM:-0500
TZOFFSETTO:-0400
TZNAME:EDT
DTSTART:20250309T070000
END:DAYLIGHT
BEGIN:STANDARD
TZOFFSETFROM:-0400
TZOFFSETTO:-0500
TZNAME:EST
DTSTART:20251102T060000
END:STANDARD
BEGIN:DAYLIGHT
TZOFFSETFROM:-0500
TZOFFSETTO:-0400
TZNAME:EDT
DTSTART:20260308T070000
END:DAYLIGHT
BEGIN:STANDARD
TZOFFSETFROM:-0400
TZOFFSETTO:-0500
TZNAME:EST
DTSTART:20261101T060000
END:STANDARD
END:VTIMEZONE
BEGIN:VEVENT
DTSTART;TZID=America/New_York:20250815T190000
DTEND;TZID=America/New_York:20250815T201500
DTSTAMP:20260424T012905
CREATED:20250709T160014Z
LAST-MODIFIED:20250709T160241Z
UID:692-1755284400-1755288900@olmwellness.com
SUMMARY:Sacred Sound Bath Experience: Rooted and Ready
DESCRIPTION:Join me for a powerful sound bath experience to prepare your spirit with deep\, nourishing roots as we ready ourselves for the abundant harvest of fall. This session invites you to rest fully and grow strong from the inside out. Get grounded\, grow deep\, and embrace the season ahead \nAll sound baths are unique and one-of-a-kind experiences. Never two of the same. Shelley’s sound baths are intuitive\, and Spirit-guided to meet all individuals in attendance at the level they require. Bring a journal\, mat\, blanket\, pillow\, anything that will help you to get comfortable and slip into a state of bliss. Feel free to bring a crystal or any other personal or sacred item you would like to infuse with the combined energy of the sound bath. \nSign up here: \nPlease note: Tickets are non-refundable and non-transferable.
URL:https://olmwellness.com/event/sacred-sound-bath-experience-rooted-and-ready/
LOCATION:Soul Sanctuary\, 808 Tiogue Ave\, Coventry\, RI\, RI\, 02816\, United States
ATTACH;FMTTYPE=image/jpeg:https://olmwellness.com/wp-content/uploads/2025/06/soul-sanctuary-sound-bath.jpeg
END:VEVENT
END:VCALENDAR