BEGIN:VCALENDAR
VERSION:2.0
PRODID:-//Olm Wellness - ECPv6.15.20//NONSGML v1.0//EN
CALSCALE:GREGORIAN
METHOD:PUBLISH
X-ORIGINAL-URL:https://olmwellness.com
X-WR-CALDESC:Events for Olm Wellness
REFRESH-INTERVAL;VALUE=DURATION:PT1H
X-Robots-Tag:noindex
X-PUBLISHED-TTL:PT1H
BEGIN:VTIMEZONE
TZID:America/New_York
BEGIN:DAYLIGHT
TZOFFSETFROM:-0500
TZOFFSETTO:-0400
TZNAME:EDT
DTSTART:20240310T070000
END:DAYLIGHT
BEGIN:STANDARD
TZOFFSETFROM:-0400
TZOFFSETTO:-0500
TZNAME:EST
DTSTART:20241103T060000
END:STANDARD
BEGIN:DAYLIGHT
TZOFFSETFROM:-0500
TZOFFSETTO:-0400
TZNAME:EDT
DTSTART:20250309T070000
END:DAYLIGHT
BEGIN:STANDARD
TZOFFSETFROM:-0400
TZOFFSETTO:-0500
TZNAME:EST
DTSTART:20251102T060000
END:STANDARD
BEGIN:DAYLIGHT
TZOFFSETFROM:-0500
TZOFFSETTO:-0400
TZNAME:EDT
DTSTART:20260308T070000
END:DAYLIGHT
BEGIN:STANDARD
TZOFFSETFROM:-0400
TZOFFSETTO:-0500
TZNAME:EST
DTSTART:20261101T060000
END:STANDARD
END:VTIMEZONE
BEGIN:VEVENT
DTSTART;VALUE=DATE:20250606
DTEND;VALUE=DATE:20251020
DTSTAMP:20260424T135842
CREATED:20240331T181254Z
LAST-MODIFIED:20241127T173617Z
UID:512-1749168000-1760918399@olmwellness.com
SUMMARY:200-hour Yoga Teacher Training at The Studio\, Putnam
DESCRIPTION:Classes run 1 weekend a month\, from June\, 2025 through October 2025 for a total of 6 weekends.\nEnrollment opens November 29th.\n\nEarly Birds: Enroll over Black Friday weekend for $500 off tuition! \nMust enroll during November 29-December 2nd to receive the discount. Apply now! Application fee waived through December 2. \n\nEmbark on a sacred journey of transformation.\n\nTransitioning from student to teacher is a powerful and rewarding step in one’s yoga journey. Rooted in Hatha\, Vinyasa and Restorative Yoga\, our Yoga Alliance International Certified teacher training program will set the foundation for practicing\, teaching and exploring yoga as a lifelong spiritual path.\n\nOur foundational training invites you to explore yoga philosophy\, asana\, pranayama\, meditation & the power of finding your voice\, which will empower you as both a student & teacher. Whether you want to teach or simply magnify your personal practice\, this dynamic program will propel you forward in your journey.\n\nFor more information follow the link below\nhttps://www.thestudioputnam.com/yoga-teacher-training
URL:https://olmwellness.com/event/200-hour-yoga-teacher-training-at-the-studio-putnam/
LOCATION:The Studio\, Putnam\, 112 Main street\, putnam\, CT\, 06260\, United States
ATTACH;FMTTYPE=image/jpeg:https://olmwellness.com/wp-content/uploads/2024/03/Screenshot_20240331_141130_Photos.jpg
END:VEVENT
BEGIN:VEVENT
DTSTART;TZID=America/New_York:20250111T080000
DTEND;TZID=America/New_York:20250615T170000
DTSTAMP:20260424T135842
CREATED:20240809T123500Z
LAST-MODIFIED:20240809T220036Z
UID:566-1736582400-1750006800@olmwellness.com
SUMMARY:200 Hour Yoga Teacher Training at YONO Yoga & Meditation
DESCRIPTION:Classes begin January 2025. \nCompleting yoga teacher training can be a transformative experience. It’s not just about mastering asanas; it’s also an opportunity to embark on a profound journey of personal growth. \nAs you learn to guide others\, you’ll find your voice and confidence blossoming\, impacting all areas of your life with a new found sense of purpose and connection. \nIn this 200-hour training you’ll be introduced to: \n\nTechniques to Deepen Your Personal Practice\nExplore Different Styles of Yoga\nEnhance Self-Awareness and Mindfulness\nLearn Yoga Philosophy and History\nGain Anatomy and Physiology Knowledge\nExplore Breathwork and Meditation\nConnect with Like-Minded Individuals\nCultivate Teaching and Communication Skills\nExpand Your Career Opportunities\nNurture Personal Growth and Transformation\nExperience a Life-Changing Journey\n\nPayment Plans Available \nMissed the VIP list discount? No worries. We have another special offer valid until August 15th. \nClick here for more information
URL:https://olmwellness.com/event/200-hour-yoga-teacher-training-at-yono-yoga-meditation/
LOCATION:YONO Yoga & Meditation\, 59 Church Street\, Willimantic\, CT\, 06226\, United States
ATTACH;FMTTYPE=image/png:https://olmwellness.com/wp-content/uploads/2024/08/yono-ytt.png
END:VEVENT
BEGIN:VEVENT
DTSTART;TZID=America/New_York:20250117T190000
DTEND;TZID=America/New_York:20250117T201500
DTSTAMP:20260424T135842
CREATED:20241226T172327Z
LAST-MODIFIED:20241226T172327Z
UID:633-1737140400-1737144900@olmwellness.com
SUMMARY:New Beginnings\, Sacred Sound Bath to Find your 2025 Word of the Year
DESCRIPTION:As we step into a new year\, let’s take a moment to pause\, reflect\, and invite Divine guidance for 2025. Join Shelley for an intuitive sacred sound bath where you’ll uncover your Word of the Year—a divine anchor to carry you through the months ahead. \nThis spirit-led session will include: \nSpiritual Reflection: Meditate on powerful mantras and affirmations to help you trust in your life’s plan. \nIntentional Sound Healing: Allow the vibrations of singing bowls\, chimes\, and more to quiet your mind and tune your heart to God’s whispers. \nGuided Visualization: Reflect on the year ahead and listen for the Holy Spirit’s leading to reveal your 2025 Word of the Year. \nSacred Stillness: Create space for peace and clarity to flow freely. \nLeave with a clear\, Spirit-led focus for your year and a renewed connection to God’s purpose for your life. \nAll sound baths are unique and one-of-a-kind experiences. Never two of the same. Shelley’s sound baths are intuitive\, and Spirit guided to meet all individuals in attendance at the level they require. \nBring a journal\, mat\, blanket\, pillow\, anything that will help you to get comfortable and slip into a state of bliss. \nFeel free to bring a crystal or any other personal or sacred item you would like to infuse with the combined energy of the sound bath. \nPlease note: Tickets are non-refundable and non-transferable. \nSign up here
URL:https://olmwellness.com/event/new-beginnings-sacred-sound-bath-to-find-your-2025-word-of-the-year/
LOCATION:Soul Sanctuary\, 808 Tiogue Ave\, Coventry\, RI\, RI\, 02816\, United States
ATTACH;FMTTYPE=image/jpeg:https://olmwellness.com/wp-content/uploads/2024/12/boliviainteligente-RMnQnLsoR1Y-unsplash-scaled.jpg
END:VEVENT
BEGIN:VEVENT
DTSTART;TZID=America/New_York:20250125T090000
DTEND;TZID=America/New_York:20250126T170000
DTSTAMP:20260424T135842
CREATED:20241129T025210Z
LAST-MODIFIED:20241226T170848Z
UID:624-1737795600-1737910800@olmwellness.com
SUMMARY:Intuitive Sound Bath Facilitator Certification - Spirit Led & Bible Based
DESCRIPTION:PROMO CODE BlackFriday75 AUTOMATICALLY APPLIED AT CHECKOUT FOR $75 off. Offer valid through 1/10/2024. \nIntuitive Sound Bath Facilitator Certification \nCome join us for our Intuitive Sound Bath Facilitator Certification event! Learn the art of facilitating sound baths and immerse yourself in the healing power of sound. This in-person certification will be held at 461 Brayman Hollow Rd. Become a certified facilitator and deepen your connection to sound healing. Don’t miss out on this transformative experience! \nAre you ready to step into your calling as a sound healer\, using the power of sound to create sacred\, transformative experiences? \nJoin Shelley for a transformative Sound Bath Facilitator Training\, grounded in Bible-based intuitive healing and guided by the Holy Spirit. \nIn this three-day training\, you will delve into: \n\nThe history of sound healing.\nExploration and education on various instruments used in sound healings.\nThe instruments used in sound healings\, explore how to play them\, and gain hands-on experience practicing and leading sound baths.\nHow to harness the power of prayer\, listen to the Holy Spirit\, use intuition\, and Divine connectedness to confidently lead sacred sound baths.\nBiblical principles and scripture \, highlighting their connection to sound and the practice of listening to the Holy Spirit.\nSchedule:\n Saturday\, 1/25\, 9am-5pm; Sunday\, 1/26\, 9am-5pm.\nSaturday and Sunday: Each day begins with a Spirit-led sound bath and comprehensive learning sessions on sound healing backed by Scripture.You will be fully immersed in the world of sound\, gaining the skills\, knowledge\, and confidence to lead others through sacred sound experiences. This is a Level I Certification. In order to achieve Level II\, you must co-facilitate a sound bath with the instructor and lead a community sound bath\, ensuring hands-on experience in facilitating healing through sound and prayer. The training also includes homework\, self-study\, and sessions on the business aspects of running Sound Baths\, totaling 25 hours of in-depth learning and practice. Upon completion\, you will be a Certified Sound Healer by the Spirit Filled Sound Academy.Embark on this sacred journey and deepen your connection to the Holy Spirit through the power of sound healing.\nMeet Your Instructor\nShelley is a deeply passionate sound bath facilitator and experienced yoga instructor with over 5 years of teaching experience. With more than 400 sound baths and over 20 retreats to their name\, Shelley combines her extensive expertise with a heart-centered approach to healing. \nAs a 500-hour ERYT\, she bring a wealth of knowledge to her practice\, but what truly sets her apart is her dedication to creating a space where everyone can feel blessed\, happy\, and healed. \nRooted in her love for Jesus and people\, Shelley leads intuitive\, Bible-based\, spirit-led sound baths designed to nurture the soul and release trauma. Her sound baths are a unique blend of spiritual guidance and healing sound\, aiming to uplift and restore every participant. Whether through the resonance of sound or the wisdom of scripture\, Shelley is committed to helping others find peace\, joy\, and deep inner healing.\n\nSign up here
URL:https://olmwellness.com/event/intuitive-sound-bath-facilitator-certification-spirit-led-bible-based/
LOCATION:RI
ATTACH;FMTTYPE=image/jpeg:https://olmwellness.com/wp-content/uploads/2024/08/Olm-Wellness-SoundBath.jpg
END:VEVENT
END:VCALENDAR