BEGIN:VCALENDAR
VERSION:2.0
PRODID:-//Olm Wellness - ECPv6.15.20//NONSGML v1.0//EN
CALSCALE:GREGORIAN
METHOD:PUBLISH
X-WR-CALNAME:Olm Wellness
X-ORIGINAL-URL:https://olmwellness.com
X-WR-CALDESC:Events for Olm Wellness
REFRESH-INTERVAL;VALUE=DURATION:PT1H
X-Robots-Tag:noindex
X-PUBLISHED-TTL:PT1H
BEGIN:VTIMEZONE
TZID:America/New_York
BEGIN:DAYLIGHT
TZOFFSETFROM:-0500
TZOFFSETTO:-0400
TZNAME:EDT
DTSTART:20210314T070000
END:DAYLIGHT
BEGIN:STANDARD
TZOFFSETFROM:-0400
TZOFFSETTO:-0500
TZNAME:EST
DTSTART:20211107T060000
END:STANDARD
BEGIN:DAYLIGHT
TZOFFSETFROM:-0500
TZOFFSETTO:-0400
TZNAME:EDT
DTSTART:20220313T070000
END:DAYLIGHT
BEGIN:STANDARD
TZOFFSETFROM:-0400
TZOFFSETTO:-0500
TZNAME:EST
DTSTART:20221106T060000
END:STANDARD
BEGIN:DAYLIGHT
TZOFFSETFROM:-0500
TZOFFSETTO:-0400
TZNAME:EDT
DTSTART:20230312T070000
END:DAYLIGHT
BEGIN:STANDARD
TZOFFSETFROM:-0400
TZOFFSETTO:-0500
TZNAME:EST
DTSTART:20231105T060000
END:STANDARD
END:VTIMEZONE
BEGIN:VEVENT
DTSTART;TZID=America/New_York:20221112T090000
DTEND;TZID=America/New_York:20221112T130000
DTSTAMP:20260424T092424
CREATED:20220801T145044Z
LAST-MODIFIED:20221013T014942Z
UID:84-1668243600-1668258000@olmwellness.com
SUMMARY:Usui Holy Fire III Reiki Level I Certification at "The Studio" Putnam
DESCRIPTION:Reiki is a Japanese form of energy healing in which universal healing energy is transferred through the palms of the practitioner to the patient in order to activate the body’s natural healing processes and restore physical and emotional well-being. \nThis Level I certification allows you to begin to heal yourself as well as pets and animals and is a prerequisite for Reiki Level II. \nIn this workshop\, you will learn the history of Reiki and how it works to heal. You will learn the positioning of hands\, give and receive Reiki treatments and receive an attunement from Reiki Master Shelley Olm. \nSpace is limited. \nPurchase your pass here: \nHoly Fire III: Reiki Level 1 Certification
URL:https://olmwellness.com/event/usui-holy-fire-iii-reiki-level-i-certification-with-shelley/
LOCATION:CT
ATTACH;FMTTYPE=image/jpeg:https://olmwellness.com/wp-content/uploads/2022/08/Screenshot_20220717-170333_Chrome.jpg
END:VEVENT
BEGIN:VEVENT
DTSTART;TZID=America/New_York:20221105T180000
DTEND;TZID=America/New_York:20221105T193000
DTSTAMP:20260424T092424
CREATED:20220802T015434Z
LAST-MODIFIED:20220831T190648Z
UID:105-1667671200-1667676600@olmwellness.com
SUMMARY:Buti Yoga Glow
DESCRIPTION:Put on your whitest whites and neon colors and join Shelley under the black lights for this Glow in the Dark Yoga Event!  Buti Yoga is a mixture of tribal dance\, primal movement\, cardio bursts\, strength and conditioning and core work for all full-body workout. \nArrive 15 minutes early to decorate your body with glow in the dark paint and jewelry. \nRegister by October 1st to be eligible to win a raffle prize. \nPurchase your pass here: \nhttps://schedulebliss.com/yono/?tt=15916
URL:https://olmwellness.com/event/buti-yoga-glow/
LOCATION:CT
ATTACH;FMTTYPE=image/jpeg:https://olmwellness.com/wp-content/uploads/2022/08/buti-zglow-scaled.jpg
END:VEVENT
BEGIN:VEVENT
DTSTART;TZID=America/New_York:20221008T103000
DTEND;TZID=America/New_York:20221008T120000
DTSTAMP:20260424T092424
CREATED:20220802T013447Z
LAST-MODIFIED:20220802T013447Z
UID:97-1665225000-1665230400@olmwellness.com
SUMMARY:Tea\, Meditation and Crystals
DESCRIPTION:Sip on a variety of teas\, each paired with a healing crystal\, enjoy a guided meditation and explore the art of slowing down. Participants will leave with a crystal that can be used as a reminder to take a relaxing moment during your busy day. \nRegister by September 1st to be entered into a raffle to win a tea and crystal gift package. \nPurchase your pass here. \nhttps://schedulebliss.com/yono/?tt=15149
URL:https://olmwellness.com/event/tea-meditation-and-crystals/
LOCATION:CT
ATTACH;FMTTYPE=image/jpeg:https://olmwellness.com/wp-content/uploads/2022/08/Screenshot_20220117-150224_Chrome.jpg
END:VEVENT
BEGIN:VEVENT
DTSTART;TZID=America/New_York:20220910T180000
DTEND;TZID=America/New_York:20220910T193000
DTSTAMP:20260424T092424
CREATED:20220802T021833Z
LAST-MODIFIED:20220802T021833Z
UID:120-1662832800-1662838200@olmwellness.com
SUMMARY:Full Moon Meditation and Sound Bath
DESCRIPTION:Beautiful outdoor Full Moon Ceremony on a beautiful\, picturesque property located in Canterbury\, CT.\nThe full moon in September is called the Harvest Moon.\nThe days are getting shorter and the air is cooler. Fall is fast approaching.\nWe will gather around the fire to give thanks\, reflect on our accomplishments\, journal\, move\, and settle down into a beautiful\, guided meditation and sound bath.\nExact address will be sent to you upon receipt of payment.\n\nPurchase your ticket here:\nhttps://www.paypal.com/instantcomm…/checkout/55W2TEQT72M2U
URL:https://olmwellness.com/event/full-moon-meditation-and-sound-bath/
LOCATION:CT
ATTACH;FMTTYPE=image/jpeg:https://olmwellness.com/wp-content/uploads/2022/08/full-moon-harvest.jpg
END:VEVENT
BEGIN:VEVENT
DTSTART;TZID=America/New_York:20220827T180000
DTEND;TZID=America/New_York:20220827T193000
DTSTAMP:20260424T092424
CREATED:20220802T013057Z
LAST-MODIFIED:20220802T013057Z
UID:94-1661623200-1661628600@olmwellness.com
SUMMARY:Balancing the Root and Sacral Chakras
DESCRIPTION:The Root Chakra is the base of our life force energy and acts as the link between the\noutside physical world and our internal energetic system—it gives us the motivation to\nget up each day\, eat\, and procreate. \nThe Sacral Chakra is the center of creativity\, emotions\, and stimulates pleasure. It plays an active role in our sexuality and creative expression. \nIn this workshop\, we shall learn how to become more aware of these two vital Chakras and ways to\nkeep them in balance\, followed by a Yoga practice focused on these energies. The workshop will finish with a healing sound bath to seal all the good energy in! \nSign up for this workshop here. \nhttps://schedulebliss.com/yono/?tt=15914
URL:https://olmwellness.com/event/balancing-the-root-and-sacral-chakras/
LOCATION:CT
ATTACH;FMTTYPE=image/jpeg:https://olmwellness.com/wp-content/uploads/2022/08/Screenshot_20220717-154953_Chrome.jpg
END:VEVENT
BEGIN:VEVENT
DTSTART;TZID=America/New_York:20220813T090000
DTEND;TZID=America/New_York:20220813T100000
DTSTAMP:20260424T092424
CREATED:20220802T021100Z
LAST-MODIFIED:20220802T021100Z
UID:114-1660381200-1660384800@olmwellness.com
SUMMARY:Outdoor All Levels Yoga
DESCRIPTION:This is an all levels yoga class on a beautiful\, picturesque property located in Canterbury\, CT.\n\nWe will start off with breathwork\, proceed to a lovely yoga flow\, then finish with a relaxing savasana accompanied by the serenade of singing bowls and nature.\nBeginners Welcome.\nExact address will be emailed to you upon payment. \n\nSign up below:\nhttps://py.pl/3Pz87290fxN
URL:https://olmwellness.com/event/outdoor-all-levels-yoga/
LOCATION:CT
ATTACH;FMTTYPE=image/jpeg:https://olmwellness.com/wp-content/uploads/2022/08/jens.jpg
END:VEVENT
BEGIN:VEVENT
DTSTART;TZID=America/New_York:20220812T173000
DTEND;TZID=America/New_York:20220812T183000
DTSTAMP:20260424T092424
CREATED:20220802T021454Z
LAST-MODIFIED:20220802T021454Z
UID:117-1660325400-1660329000@olmwellness.com
SUMMARY:Poolside Meditation and Sound Bath
DESCRIPTION:This sound bath with have you floating away (really).\nWe will begin with breathwork\, centering\, and intention setting.\nNext\, a guided meditation will ease you into a state of mindful visualization\, allowing you to sink deeper and deeper into a place where you are neither awake nor sleeping.\nFinishing off the evening with the sounds of singing bowls\, chimes\, rattles and other soothing instruments.\nExact address will be sent to you upon receipt of payment.\nBring a yoga mat or a float if you wish to float both physically and spiritually.\n\nSign up blow:\n\nwww.paypal.com/instantcommerce/checkout/JWXDCBTMV3Q2G
URL:https://olmwellness.com/event/poolside-meditation-and-sound-bath/
LOCATION:CT
ATTACH;FMTTYPE=image/jpeg:https://olmwellness.com/wp-content/uploads/2022/08/Screenshot_20220731-205028_Messages.jpg
END:VEVENT
BEGIN:VEVENT
DTSTART;TZID=America/New_York:20220806T100000
DTEND;TZID=America/New_York:20220806T210000
DTSTAMP:20260424T092424
CREATED:20220802T020604Z
LAST-MODIFIED:20220802T020604Z
UID:112-1659780000-1659819600@olmwellness.com
SUMMARY:Full Day Outdoor Yoga Retreat
DESCRIPTION:A Full Day Healing Immersion Retreat for the MIND\, BODY & SOUL!\nAugust 6th\, September 17th\, October 29th\n\nJoin Fred\, Shelley and Shelly M for a full day wellness retreat in beautiful Woodstock\, Connecticut.  A community retreat where we pull-out and step-back from the grind of daily life and stressors in order to de-stress\, heal\, relax\, and reset.  We will hold space and guide you to convert pain to power by mindset shifting and mindfulness while reestablishing the connection to your own divinity.  You will have the opportunity to rejoin the world Anew with the courage to step into your power\, your now\, your future. \nThis retreat is perfect for the beginner\, to those well on the path of the healing/spiritual journey! \n\nFind out more information here:\nhttps://tuneupzenout.com
URL:https://olmwellness.com/event/full-day-outdoor-yoga-retreat/
LOCATION:CT
ATTACH;FMTTYPE=image/jpeg:https://olmwellness.com/wp-content/uploads/2022/08/zentastic-location-scaled.jpg
END:VEVENT
END:VCALENDAR