BEGIN:VCALENDAR
VERSION:2.0
PRODID:-//Olm Wellness - ECPv6.15.20//NONSGML v1.0//EN
CALSCALE:GREGORIAN
METHOD:PUBLISH
X-WR-CALNAME:Olm Wellness
X-ORIGINAL-URL:https://olmwellness.com
X-WR-CALDESC:Events for Olm Wellness
REFRESH-INTERVAL;VALUE=DURATION:PT1H
X-Robots-Tag:noindex
X-PUBLISHED-TTL:PT1H
BEGIN:VTIMEZONE
TZID:America/New_York
BEGIN:DAYLIGHT
TZOFFSETFROM:-0500
TZOFFSETTO:-0400
TZNAME:EDT
DTSTART:20210314T070000
END:DAYLIGHT
BEGIN:STANDARD
TZOFFSETFROM:-0400
TZOFFSETTO:-0500
TZNAME:EST
DTSTART:20211107T060000
END:STANDARD
BEGIN:DAYLIGHT
TZOFFSETFROM:-0500
TZOFFSETTO:-0400
TZNAME:EDT
DTSTART:20220313T070000
END:DAYLIGHT
BEGIN:STANDARD
TZOFFSETFROM:-0400
TZOFFSETTO:-0500
TZNAME:EST
DTSTART:20221106T060000
END:STANDARD
BEGIN:DAYLIGHT
TZOFFSETFROM:-0500
TZOFFSETTO:-0400
TZNAME:EDT
DTSTART:20230312T070000
END:DAYLIGHT
BEGIN:STANDARD
TZOFFSETFROM:-0400
TZOFFSETTO:-0500
TZNAME:EST
DTSTART:20231105T060000
END:STANDARD
END:VTIMEZONE
BEGIN:VEVENT
DTSTART;TZID=America/New_York:20220806T100000
DTEND;TZID=America/New_York:20220806T210000
DTSTAMP:20260425T072052
CREATED:20220802T020604Z
LAST-MODIFIED:20220802T020604Z
UID:112-1659780000-1659819600@olmwellness.com
SUMMARY:Full Day Outdoor Yoga Retreat
DESCRIPTION:A Full Day Healing Immersion Retreat for the MIND\, BODY & SOUL!\nAugust 6th\, September 17th\, October 29th\n\nJoin Fred\, Shelley and Shelly M for a full day wellness retreat in beautiful Woodstock\, Connecticut.  A community retreat where we pull-out and step-back from the grind of daily life and stressors in order to de-stress\, heal\, relax\, and reset.  We will hold space and guide you to convert pain to power by mindset shifting and mindfulness while reestablishing the connection to your own divinity.  You will have the opportunity to rejoin the world Anew with the courage to step into your power\, your now\, your future. \nThis retreat is perfect for the beginner\, to those well on the path of the healing/spiritual journey! \n\nFind out more information here:\nhttps://tuneupzenout.com
URL:https://olmwellness.com/event/full-day-outdoor-yoga-retreat/
LOCATION:CT
ATTACH;FMTTYPE=image/jpeg:https://olmwellness.com/wp-content/uploads/2022/08/zentastic-location-scaled.jpg
END:VEVENT
END:VCALENDAR