BEGIN:VCALENDAR
VERSION:2.0
PRODID:-//Olm Wellness - ECPv6.15.20//NONSGML v1.0//EN
CALSCALE:GREGORIAN
METHOD:PUBLISH
X-WR-CALNAME:Olm Wellness
X-ORIGINAL-URL:https://olmwellness.com
X-WR-CALDESC:Events for Olm Wellness
REFRESH-INTERVAL;VALUE=DURATION:PT1H
X-Robots-Tag:noindex
X-PUBLISHED-TTL:PT1H
BEGIN:VTIMEZONE
TZID:America/New_York
BEGIN:DAYLIGHT
TZOFFSETFROM:-0500
TZOFFSETTO:-0400
TZNAME:EDT
DTSTART:20250309T070000
END:DAYLIGHT
BEGIN:STANDARD
TZOFFSETFROM:-0400
TZOFFSETTO:-0500
TZNAME:EST
DTSTART:20251102T060000
END:STANDARD
BEGIN:DAYLIGHT
TZOFFSETFROM:-0500
TZOFFSETTO:-0400
TZNAME:EDT
DTSTART:20260308T070000
END:DAYLIGHT
BEGIN:STANDARD
TZOFFSETFROM:-0400
TZOFFSETTO:-0500
TZNAME:EST
DTSTART:20261101T060000
END:STANDARD
BEGIN:DAYLIGHT
TZOFFSETFROM:-0500
TZOFFSETTO:-0400
TZNAME:EDT
DTSTART:20270314T070000
END:DAYLIGHT
BEGIN:STANDARD
TZOFFSETFROM:-0400
TZOFFSETTO:-0500
TZNAME:EST
DTSTART:20271107T060000
END:STANDARD
END:VTIMEZONE
BEGIN:VEVENT
DTSTART;VALUE=DATE:20260116
DTEND;VALUE=DATE:20260615
DTSTAMP:20260423T200607
CREATED:20250701T021039Z
LAST-MODIFIED:20251007T145444Z
UID:680-1768521600-1781481599@olmwellness.com
SUMMARY:YONO 200-hour Yoga Teacher
DESCRIPTION:We’ve had so many requests we just opened up two more spots! \nYONO YTT 2026 STARTS IN JANUARY! \nYoga teacher training isn’t only for those who want to teach\, it’s for those who feel called to grow. To remember who they are beneath the noise. It’s a deep dive into the self\, a journey through breath\, movement\, and stillness that changes the way you see the world and yourself. Whether or not you ever guide a class\, the training becomes a map for living with more awareness\, compassion\, and courage. You don’t just learn to teach yoga; you learn to embody it. \nlearn more: \nhttps://mailchi.mp/e4759e109191/yono-ytt-2026
URL:https://olmwellness.com/event/yono-200-hour-yoga-teacher-training-vip-list/
LOCATION:YONO Yoga & Meditation\, 59 Church Street\, Willimantic\, CT\, 06226\, United States
ATTACH;FMTTYPE=image/jpeg:https://olmwellness.com/wp-content/uploads/2025/06/ytt.yono_.jpg
END:VEVENT
BEGIN:VEVENT
DTSTART;TZID=America/New_York:20260124T103000
DTEND;TZID=America/New_York:20260124T130000
DTSTAMP:20260423T200607
CREATED:20251210T022600Z
LAST-MODIFIED:20251210T022600Z
UID:727-1769250600-1769259600@olmwellness.com
SUMMARY:2026 Vision Board Workshop
DESCRIPTION:Not your grandma’s vision board workshop! Find your 2026 word\, set goals and create. Leave this 2.5-hour session with a game plan and the resources you’ll need to see it through. \nWhat to expect: \n• Guided meditation to find your 2026 word of the year and get your ideas flowing \n• Classroom discussion on setting attainable goals and using your vision board throughout the year \n• Vision Board Creation – all supplies included but you may bring your own magazines if you wish. \nCome join Shelley on Saturday\, January 10th from 10:30am-1:00pm.
URL:https://olmwellness.com/event/2026-vision-board-workshop-2/
LOCATION:YONO Yoga & Meditation\, 59 Church Street\, Willimantic\, CT\, 06226\, United States
ATTACH;FMTTYPE=image/jpeg:https://olmwellness.com/wp-content/uploads/2025/12/1000032742-1.jpg
END:VEVENT
BEGIN:VEVENT
DTSTART;TZID=America/New_York:20260206T190000
DTEND;TZID=America/New_York:20260206T201500
DTSTAMP:20260423T200607
CREATED:20260201T124845Z
LAST-MODIFIED:20260201T124845Z
UID:736-1770404400-1770408900@olmwellness.com
SUMMARY:Emerging Light: A Winter Sound Bath
DESCRIPTION:A candlelit sound bath honoring renewal and the return of light\, release heaviness\, rest deeply\, and leave feeling grounded and restored. \n\n\n\n\nThis time of year has long been recognized across cultures as a turning point\, marked in some traditions as Imbolc or Candlemas\, both honoring purification\, renewal\, and the quiet return of light. \nThis sound bath invites you to rest\, release what feels heavy\, and gently reconnect with clarity and inner warmth through soothing sound\, subtle light imagery\, and spacious reflection. \nWe begin with a simple candle ceremony\, using light as a symbol of intention\, reflection and gentle renewal\, followed by soothing sound and spacious rest. Come exactly as you are and leave feeling lighter\, grounded and restored. \nAll sound baths are unique and one-of-a-kind experiences. Never two of the same. Shelley’s sound baths are intuitive\, and Spirit-guided to meet all individuals in attendance at the level they require. Bring a journal\, mat\, blanket\, pillow\, anything that will help you to get comfortable and slip into a state of bliss. Feel free to bring a crystal or any other personal or sacred item you would like to infuse with the combined energy of the sound bath. \n\n\n  \nSign up here
URL:https://olmwellness.com/event/emerging-light-a-winter-sound-bath/
LOCATION:Soul Sanctuary\, 808 Tiogue Ave\, Coventry\, RI\, RI\, 02816\, United States
ATTACH;FMTTYPE=image/jpeg:https://olmwellness.com/wp-content/uploads/2026/02/1000034303.jpg
END:VEVENT
BEGIN:VEVENT
DTSTART;TZID=America/New_York:20260221T103000
DTEND;TZID=America/New_York:20260221T153000
DTSTAMP:20260423T200607
CREATED:20251204T142434Z
LAST-MODIFIED:20260206T011134Z
UID:721-1771669800-1771687800@olmwellness.com
SUMMARY:Reiki Certification\, USUI Holy Fire III\, Level II
DESCRIPTION:Prerequisite: Any Reiki I Certification. \nThis is a follow-up training to Level I for those of you who want to dig deeper\, know more\, and increase the power of energy healing. \nThis course will allow you to provide Reiki energy healing to treat others in addition to yourself\, your pets and your family. \nYou will receive Usui Holy Fire III Reiki level II attunement and learn to send Reiki energy over long distances to provide healing. \nHoly Fire Reiki is a type of Reiki energy and a system of Reiki healing based on Holy Fire energy. \nMentioned in the Bible\, Holy Fire® energy has been active in the world since ancient times. Based on sessions with the late Janice Jones\, a spiritual adviser\, our understanding is that God\, working through the Holy Spirit created Holy Fire® energy and Jesus is the one who first brought this healing energy to the Earth. \nWhile the words Jesus\, God and Holy Spirit\, are used in religion\, in the practice of Holy Fire® Reiki we do not consider them to be religious\, but instead\, consider them to be spiritual in nature. \nSign up here!
URL:https://olmwellness.com/event/reiki-certification-usui-holy-fire-iii-level-ii/
LOCATION:YONO Yoga & Meditation\, 59 Church Street\, Willimantic\, CT\, 06226\, United States
ATTACH;FMTTYPE=image/jpeg:https://olmwellness.com/wp-content/uploads/2024/01/reiki.jpg
END:VEVENT
BEGIN:VEVENT
DTSTART;TZID=America/New_York:20260306T190000
DTEND;TZID=America/New_York:20260306T201500
DTSTAMP:20260423T200607
CREATED:20260206T010319Z
LAST-MODIFIED:20260206T010915Z
UID:742-1772823600-1772828100@olmwellness.com
SUMMARY:Sacred Sound Bath and Reiki Experience
DESCRIPTION:A gentle sound bath with crystal bowls\, Reiki\, and intuitive energy work to release tension\, restore balance\, and softly awaken. \n\n\n\n\nStep into the gentle in-between of winter and spring. Soft\, soothing tones fill the space as a quiet light of renewal begins to glow. Crystal bowls and calming vibrations guide your body into deep rest\, helping you release what’s been held too tightly and welcome a sense of ease. \nDuring the session\, Reiki and intuitive energy work flow through the room\, supporting balance\, clarity\, and restoration. There’s nothing to do but relax and receive as March invites you to softly awaken\, reset\, and realign. \nAll sound baths are unique and one-of-a-kind experiences. Never two of the same. Shelley’s sound baths are intuitive\, and Spirit-guided to meet all individuals in attendance at the level they require. Bring a journal\, mat\, blanket\, pillow\, anything that will help you to get comfortable and slip into a state of bliss. Feel free to bring a crystal or any other personal or sacred item you would like to infuse with the combined energy of the sound bath. \nSign up here Eventbrite \nSign up here Momence
URL:https://olmwellness.com/event/sacred-sound-bath-and-reiki-experience/
LOCATION:Soul Sanctuary\, 808 Tiogue Ave\, Coventry\, RI\, RI\, 02816\, United States
ATTACH;FMTTYPE=image/jpeg:https://olmwellness.com/wp-content/uploads/2026/02/sound-and-reiki.jpeg
END:VEVENT
BEGIN:VEVENT
DTSTART;TZID=America/New_York:20260403T190000
DTEND;TZID=America/New_York:20260403T201500
DTSTAMP:20260423T200607
CREATED:20260306T185550Z
LAST-MODIFIED:20260306T191912Z
UID:756-1775242800-1775247300@olmwellness.com
SUMMARY:Sacred Sound Bath: Bloom Under the Pink Moon
DESCRIPTION:The first full moon of spring only comes once. \nJoin me for a magical evening of rest\, renewal\, and reflection under April’s Pink Moon. Let the soothing vibrations of crystal singing bowls\, chimes\, and sacred instruments calm your nervous system\, quiet your mind\, and create space for your intentions to bloom this season. \n*Release the old. \n*Invite new growth. \n*Rest in the light of the Pink Moon. \nBring an intention for what you want to see grow in your life\, and allow this sound bath to support your heart\, body\, and spirit. All sound baths are unique and one-of-a-kind experiences. Never two of the same. Shelley’s sound baths are intuitive\, and Spirit-guided to meet all individuals in attendance at the level they require. Bring a journal\, mat\, blanket\, pillow\, anything that will help you to get comfortable and slip into a state of bliss. Feel free to bring a crystal or any other personal or sacred item you would like to infuse with the combined energy of the sound bath. \nSign up here on Momence! \nSign up here on Eventbrite!
URL:https://olmwellness.com/event/sacred-sound-bath-bloom-under-the-pink-moon/
LOCATION:Soul Sanctuary\, 808 Tiogue Ave\, Coventry\, RI\, RI\, 02816\, United States
ATTACH;FMTTYPE=image/jpeg:https://olmwellness.com/wp-content/uploads/2026/03/1000035296.jpg
END:VEVENT
BEGIN:VEVENT
DTSTART;TZID=America/New_York:20260404T080000
DTEND;TZID=America/New_York:20260404T090000
DTSTAMP:20260423T200607
CREATED:20260327T004914Z
LAST-MODIFIED:20260327T004914Z
UID:769-1775289600-1775293200@olmwellness.com
SUMMARY:Buti Yoga
DESCRIPTION:Buti Yoga is a dynamic\, high-energy\, music-driven practice that blends cardio-intensive dance\, strength and conditioning\, and power yoga for a full-body workout. Through primal movement\, spiral structure technique\, and rhythmic bursts of cardio\, this class helps release stored energy\, build strength\, and awaken confidence. Tap into your inner power as you move to heart-pumping music. \nSign up here!
URL:https://olmwellness.com/event/buti-yoga/
LOCATION:Soul Sanctuary\, 808 Tiogue Ave\, Coventry\, RI\, RI\, 02816\, United States
ATTACH;FMTTYPE=image/jpeg:https://olmwellness.com/wp-content/uploads/2022/07/Shelley-Olm-yoga.jpg
END:VEVENT
BEGIN:VEVENT
DTSTART;TZID=America/New_York:20260430T191500
DTEND;TZID=America/New_York:20260430T203000
DTSTAMP:20260423T200607
CREATED:20260206T003957Z
LAST-MODIFIED:20260206T003957Z
UID:739-1777576500-1777581000@olmwellness.com
SUMMARY:Yoga Nidra & Sound Healing
DESCRIPTION:Yoga Nidra\, often called “yogic sleep\,” is a deeply restorative guided meditation that allows the body to rest while the mind remains gently aware. As you settle into stillness\, soothing sound healing instruments will wash over you\, helping to calm the nervous system\, release tension\, and bring the body into a state of balance. This experience is perfect for anyone seeking rest\, emotional reset\, and inner peace. \nWhat to know: You will be lying down so please bring anything that helps support that position (blankets\, pillows etc.) The studio also has some props that you can use. \nSign up here.
URL:https://olmwellness.com/event/yoga-nidra-sound-healing-2/
LOCATION:YONO Yoga & Meditation\, 59 Church Street\, Willimantic\, CT\, 06226\, United States
ATTACH;FMTTYPE=image/jpeg:https://olmwellness.com/wp-content/uploads/2026/02/yoga-nidra-haley.jpg
END:VEVENT
BEGIN:VEVENT
DTSTART;VALUE=DATE:20260930
DTEND;VALUE=DATE:20261008
DTSTAMP:20260423T200607
CREATED:20260224T023015Z
LAST-MODIFIED:20260324T012916Z
UID:752-1790726400-1791417599@olmwellness.com
SUMMARY:2026 Caribbean Yoga Retreat on the Island of Bonaire
DESCRIPTION:‘Trankilisa bo Alma’   Tranquilize Your Soul\nJoin us for a 7-night luxury yoga and wellness retreat on the breathtaking island of Bonaire\, part of the ABC Islands alongside Aruba and Curaçao. This hidden gem in the Dutch Caribbean offers crystal-clear turquoise waters\, warm ocean breezes\, and a serene\, unspoiled beauty that invites you to slow down and truly exhale. \nThis is a place where time slows down and every detail invites you to relax\, restore\, and reconnect. Spend your days immersed in yoga\, meditation\, and sound healing\, while enjoying curated island experiences\, stunning beaches\, and the effortless elegance of Caribbean living. \nDesigned to nourish your body\, calm your mind\, and elevate your spirit\, this retreat offers a refined balance of relaxation\, exploration\, and meaningful connection. \n✨ Full details available at the link below. \nShow me the details!
URL:https://olmwellness.com/event/2026-bonaire-retreat-vip-waitlist/
LOCATION:RI
ATTACH;FMTTYPE=image/jpeg:https://olmwellness.com/wp-content/uploads/2026/02/1000035013.jpg
END:VEVENT
END:VCALENDAR