BEGIN:VCALENDAR
VERSION:2.0
PRODID:-//Olm Wellness - ECPv6.15.20//NONSGML v1.0//EN
CALSCALE:GREGORIAN
METHOD:PUBLISH
X-WR-CALNAME:Olm Wellness
X-ORIGINAL-URL:https://olmwellness.com
X-WR-CALDESC:Events for Olm Wellness
REFRESH-INTERVAL;VALUE=DURATION:PT1H
X-Robots-Tag:noindex
X-PUBLISHED-TTL:PT1H
BEGIN:VTIMEZONE
TZID:America/New_York
BEGIN:DAYLIGHT
TZOFFSETFROM:-0500
TZOFFSETTO:-0400
TZNAME:EDT
DTSTART:20240310T070000
END:DAYLIGHT
BEGIN:STANDARD
TZOFFSETFROM:-0400
TZOFFSETTO:-0500
TZNAME:EST
DTSTART:20241103T060000
END:STANDARD
BEGIN:DAYLIGHT
TZOFFSETFROM:-0500
TZOFFSETTO:-0400
TZNAME:EDT
DTSTART:20250309T070000
END:DAYLIGHT
BEGIN:STANDARD
TZOFFSETFROM:-0400
TZOFFSETTO:-0500
TZNAME:EST
DTSTART:20251102T060000
END:STANDARD
BEGIN:DAYLIGHT
TZOFFSETFROM:-0500
TZOFFSETTO:-0400
TZNAME:EDT
DTSTART:20260308T070000
END:DAYLIGHT
BEGIN:STANDARD
TZOFFSETFROM:-0400
TZOFFSETTO:-0500
TZNAME:EST
DTSTART:20261101T060000
END:STANDARD
END:VTIMEZONE
BEGIN:VEVENT
DTSTART;TZID=America/New_York:20250723T180000
DTEND;TZID=America/New_York:20250723T193000
DTSTAMP:20260424T050752
CREATED:20250606T175311Z
LAST-MODIFIED:20250701T014053Z
UID:660-1753293600-1753299000@olmwellness.com
SUMMARY:Mid-Summer Recalibration: A New Moon Sound Bath
DESCRIPTION:Sound Healing at the Lodge at Diamond Hill in Cumberland\, RI. The New Moon meets Summer Stillness \nCumberland Parks & Recreation invites you to step into a peaceful space and unwind with the soothing sounds of a Sound Healing class. \nJoin Shelley on July 23 at 6:00 PM for a grounding sound bath to help you reset your nervous system\, reconnect to your heart\, and move into this next lunar cycle with intention and clarity.  This event will include: Intention setting\, journaling\, affirmations\, breathwork\, and a relaxing sound bath to release\, relax\, reset and recalibrate.\nThe is a peaceful way to unwind with soothing sounds. Spots are limited and registrations are closing by July 20\, 2025. You can drop off your registration form at the Parks and Recreation office at 4097 Diamond Hill Road\, Cumberland. \nBring a yoga mat\, blanket\, pillow\, anything you need to be comfortable and a bottle of water. We can’t wait to share this peaceful evening with you! 💫 \nRegistration closes 7/20/25 at 4:30PM
URL:https://olmwellness.com/event/sound-healing-at-the-lodge-at-diamond-hill-in-cumberland-ri/
LOCATION:The Lodge at Diamond Hill\, 4097 Diamond Hill Rd\, Cumberland\, RI\, 02864\, United States
ATTACH;FMTTYPE=image/jpeg:https://olmwellness.com/wp-content/uploads/2025/06/sound-set-up-cumberland.jpg
END:VEVENT
END:VCALENDAR