BEGIN:VCALENDAR
VERSION:2.0
PRODID:-//Olm Wellness - ECPv6.15.20//NONSGML v1.0//EN
CALSCALE:GREGORIAN
METHOD:PUBLISH
X-WR-CALNAME:Olm Wellness
X-ORIGINAL-URL:https://olmwellness.com
X-WR-CALDESC:Events for Olm Wellness
REFRESH-INTERVAL;VALUE=DURATION:PT1H
X-Robots-Tag:noindex
X-PUBLISHED-TTL:PT1H
BEGIN:VTIMEZONE
TZID:America/New_York
BEGIN:DAYLIGHT
TZOFFSETFROM:-0500
TZOFFSETTO:-0400
TZNAME:EDT
DTSTART:20240310T070000
END:DAYLIGHT
BEGIN:STANDARD
TZOFFSETFROM:-0400
TZOFFSETTO:-0500
TZNAME:EST
DTSTART:20241103T060000
END:STANDARD
BEGIN:DAYLIGHT
TZOFFSETFROM:-0500
TZOFFSETTO:-0400
TZNAME:EDT
DTSTART:20250309T070000
END:DAYLIGHT
BEGIN:STANDARD
TZOFFSETFROM:-0400
TZOFFSETTO:-0500
TZNAME:EST
DTSTART:20251102T060000
END:STANDARD
BEGIN:DAYLIGHT
TZOFFSETFROM:-0500
TZOFFSETTO:-0400
TZNAME:EDT
DTSTART:20260308T070000
END:DAYLIGHT
BEGIN:STANDARD
TZOFFSETFROM:-0400
TZOFFSETTO:-0500
TZNAME:EST
DTSTART:20261101T060000
END:STANDARD
END:VTIMEZONE
BEGIN:VEVENT
DTSTART;VALUE=DATE:20250621
DTEND;VALUE=DATE:20250623
DTSTAMP:20260424T064617
CREATED:20250207T012056Z
LAST-MODIFIED:20250507T233059Z
UID:648-1750464000-1750636799@olmwellness.com
SUMMARY:Harmony of Heaven: Intuitive Sound Bath Facilitator Certification with Shelley Olm
DESCRIPTION:🌟 Training Details: Join me for a transformative Sound Bath Facilitator Training\, grounded in scriptural intuitive healing and guided by the Holy Spirit. \nOver this weekend\, you will delve into the history of sound healing\, explore various instruments\, and harness the power of prayer and the still\, small voice of God \n🌟 Saturday: We begin by gathering in a circle for prayer\, ceremony and a beautiful sound bath to set the tone for our journey\, followed by comprehensive hands-on learning sessions on each instrument. We’ll learn about their history\, use and how to incorporate them into a Sound Bath. \n🌟 Sunday: We dive right into learning how to listen to the Holy Spirit in order to bring life and healing to a community who really needs it. Participants will practice facilitating an intuitive\, Holy Spirit-led Sound Healing. \n🌟Additionally\, the training includes homework\, self-study\, and sessions on the business aspects of running Sound Baths\, totaling 20 hours of in-depth learning and practice. \nEmbark on this sacred journey and deepen your connection to the Holy Spirit through the power of sound healing! \nInfo & Sign up here!
URL:https://olmwellness.com/event/harmony-of-heaven-intuitive-sound-bath-facilitator-certification-with-shelley-olm/
LOCATION:Soul Sanctuary\, 808 Tiogue Ave\, Coventry\, RI\, RI\, 02816\, United States
ATTACH;FMTTYPE=image/jpeg:https://olmwellness.com/wp-content/uploads/2024/08/Olm-Wellness-SoundBath.jpg
END:VEVENT
END:VCALENDAR