BEGIN:VCALENDAR
VERSION:2.0
PRODID:-//Olm Wellness - ECPv6.15.20//NONSGML v1.0//EN
CALSCALE:GREGORIAN
METHOD:PUBLISH
X-ORIGINAL-URL:https://olmwellness.com
X-WR-CALDESC:Events for Olm Wellness
REFRESH-INTERVAL;VALUE=DURATION:PT1H
X-Robots-Tag:noindex
X-PUBLISHED-TTL:PT1H
BEGIN:VTIMEZONE
TZID:America/New_York
BEGIN:DAYLIGHT
TZOFFSETFROM:-0500
TZOFFSETTO:-0400
TZNAME:EDT
DTSTART:20240310T070000
END:DAYLIGHT
BEGIN:STANDARD
TZOFFSETFROM:-0400
TZOFFSETTO:-0500
TZNAME:EST
DTSTART:20241103T060000
END:STANDARD
BEGIN:DAYLIGHT
TZOFFSETFROM:-0500
TZOFFSETTO:-0400
TZNAME:EDT
DTSTART:20250309T070000
END:DAYLIGHT
BEGIN:STANDARD
TZOFFSETFROM:-0400
TZOFFSETTO:-0500
TZNAME:EST
DTSTART:20251102T060000
END:STANDARD
BEGIN:DAYLIGHT
TZOFFSETFROM:-0500
TZOFFSETTO:-0400
TZNAME:EDT
DTSTART:20260308T070000
END:DAYLIGHT
BEGIN:STANDARD
TZOFFSETFROM:-0400
TZOFFSETTO:-0500
TZNAME:EST
DTSTART:20261101T060000
END:STANDARD
END:VTIMEZONE
BEGIN:VEVENT
DTSTART;TZID=America/New_York:20250620T190000
DTEND;TZID=America/New_York:20250620T201500
DTSTAMP:20260424T064731
CREATED:20250606T175714Z
LAST-MODIFIED:20250606T175714Z
UID:664-1750446000-1750450500@olmwellness.com
SUMMARY:Sacred Sound Bath Experience: Awaken & Align
DESCRIPTION:As summer approaches\, June brings a season of growth\, expansion\, and divine clarity. This sound bath is a sacred invitation to wake up to who you truly are\, beloved\, chosen\, and divinely appointed for a purpose. \nJust as gardens begin to bloom in the warmth of June\, this session will gently guide participants to blossom into their spiritual identity with intention and grace. \nParticipants will be encouraged to release any lingering confusion or spiritual fatigue\, exchanging it for peace\, fresh perspective\, and divine alignment. This experience emphasizes spiritual hydration and being filled and refreshed by the living waters of God’s guidance. Through stillness\, sound\, and Spirit\, they will be invited to tune into God’s voice and realign with His plan for their lives. \nAll sound baths are unique and one-of-a-kind experiences. Never two of the same. Shelley’s sound baths are intuitive\, and Spirit guided to meet all individuals in attendance at the level they require. \nBring a journal\, mat\, blanket\, pillow\, anything that will help you to get comfortable and slip into a state of bliss. \nFeel free to bring a crystal or any other personal or sacred item you would like to infuse with the combined energy of the sound bath. \nPlease note: Tickets are non-refundable and non-transferable. \nSign up here!
URL:https://olmwellness.com/event/sacred-sound-bath-experience-awaken-align/
LOCATION:Soul Sanctuary\, 808 Tiogue Ave\, Coventry\, RI\, RI\, 02816\, United States
ATTACH;FMTTYPE=image/png:https://olmwellness.com/wp-content/uploads/2025/06/blessing-1.png
END:VEVENT
END:VCALENDAR