BEGIN:VCALENDAR
VERSION:2.0
PRODID:-//Olm Wellness - ECPv6.15.20//NONSGML v1.0//EN
CALSCALE:GREGORIAN
METHOD:PUBLISH
X-WR-CALNAME:Olm Wellness
X-ORIGINAL-URL:https://olmwellness.com
X-WR-CALDESC:Events for Olm Wellness
REFRESH-INTERVAL;VALUE=DURATION:PT1H
X-Robots-Tag:noindex
X-PUBLISHED-TTL:PT1H
BEGIN:VTIMEZONE
TZID:America/New_York
BEGIN:DAYLIGHT
TZOFFSETFROM:-0500
TZOFFSETTO:-0400
TZNAME:EDT
DTSTART:20230312T070000
END:DAYLIGHT
BEGIN:STANDARD
TZOFFSETFROM:-0400
TZOFFSETTO:-0500
TZNAME:EST
DTSTART:20231105T060000
END:STANDARD
BEGIN:DAYLIGHT
TZOFFSETFROM:-0500
TZOFFSETTO:-0400
TZNAME:EDT
DTSTART:20240310T070000
END:DAYLIGHT
BEGIN:STANDARD
TZOFFSETFROM:-0400
TZOFFSETTO:-0500
TZNAME:EST
DTSTART:20241103T060000
END:STANDARD
BEGIN:DAYLIGHT
TZOFFSETFROM:-0500
TZOFFSETTO:-0400
TZNAME:EDT
DTSTART:20250309T070000
END:DAYLIGHT
BEGIN:STANDARD
TZOFFSETFROM:-0400
TZOFFSETTO:-0500
TZNAME:EST
DTSTART:20251102T060000
END:STANDARD
BEGIN:DAYLIGHT
TZOFFSETFROM:-0500
TZOFFSETTO:-0400
TZNAME:EDT
DTSTART:20260308T070000
END:DAYLIGHT
BEGIN:STANDARD
TZOFFSETFROM:-0400
TZOFFSETTO:-0500
TZNAME:EST
DTSTART:20261101T060000
END:STANDARD
END:VTIMEZONE
BEGIN:VEVENT
DTSTART;VALUE=DATE:20250606
DTEND;VALUE=DATE:20251020
DTSTAMP:20260424T204901
CREATED:20240331T181254Z
LAST-MODIFIED:20241127T173617Z
UID:512-1749168000-1760918399@olmwellness.com
SUMMARY:200-hour Yoga Teacher Training at The Studio\, Putnam
DESCRIPTION:Classes run 1 weekend a month\, from June\, 2025 through October 2025 for a total of 6 weekends.\nEnrollment opens November 29th.\n\nEarly Birds: Enroll over Black Friday weekend for $500 off tuition! \nMust enroll during November 29-December 2nd to receive the discount. Apply now! Application fee waived through December 2. \n\nEmbark on a sacred journey of transformation.\n\nTransitioning from student to teacher is a powerful and rewarding step in one’s yoga journey. Rooted in Hatha\, Vinyasa and Restorative Yoga\, our Yoga Alliance International Certified teacher training program will set the foundation for practicing\, teaching and exploring yoga as a lifelong spiritual path.\n\nOur foundational training invites you to explore yoga philosophy\, asana\, pranayama\, meditation & the power of finding your voice\, which will empower you as both a student & teacher. Whether you want to teach or simply magnify your personal practice\, this dynamic program will propel you forward in your journey.\n\nFor more information follow the link below\nhttps://www.thestudioputnam.com/yoga-teacher-training
URL:https://olmwellness.com/event/200-hour-yoga-teacher-training-at-the-studio-putnam/
LOCATION:The Studio\, Putnam\, 112 Main street\, putnam\, CT\, 06260\, United States
ATTACH;FMTTYPE=image/jpeg:https://olmwellness.com/wp-content/uploads/2024/03/Screenshot_20240331_141130_Photos.jpg
END:VEVENT
BEGIN:VEVENT
DTSTART;TZID=America/New_York:20241019T183000
DTEND;TZID=America/New_York:20241019T193000
DTSTAMP:20260424T204901
CREATED:20240715T001421Z
LAST-MODIFIED:20240715T001421Z
UID:564-1729362600-1729366200@olmwellness.com
SUMMARY:Glow in the Dark Buti Yoga
DESCRIPTION:Black Light Glow in the Dark Buti Yoga \nJoin Shelley for a unique and energizing experience. Get ready to glow and flow with our Glow in the Dark Buti Yoga event. \nImmerse yourself in the vibrant atmosphere as we combine the benefits of Buti Yoga with the fun of glowing under black lights. This dynamic practice will help you connect with your body\, mind\, and spirit while moving to the beat of the music. \nNo experience is necessary\, so whether you’re a seasoned yogi or a complete beginner\, come as you are and let the glow guide you through this invigorating practice. Grab your neon gear and join us for an unforgettable evening of yoga\, connection\, and positive energy. \nArrive 15 minutes early to paint yourself with glow in the dark paint and jewelry. \nSpaces are limited\, so be sure to reserve your spot in advance. Don’t miss out on this one-of-a-kind event that will leave you glowing from the inside out! \nClick here to purchase your pass!
URL:https://olmwellness.com/event/glow-in-the-dark-buti-yoga-2/
LOCATION:YONO Yoga & Meditation\, 59 Church Street\, Willimantic\, CT\, 06226\, United States
ATTACH;FMTTYPE=image/jpeg:https://olmwellness.com/wp-content/uploads/2022/08/buti-zglow-2-scaled.jpg
END:VEVENT
END:VCALENDAR