BEGIN:VCALENDAR
VERSION:2.0
PRODID:-//Olm Wellness - ECPv6.15.20//NONSGML v1.0//EN
CALSCALE:GREGORIAN
METHOD:PUBLISH
X-ORIGINAL-URL:https://olmwellness.com
X-WR-CALDESC:Events for Olm Wellness
REFRESH-INTERVAL;VALUE=DURATION:PT1H
X-Robots-Tag:noindex
X-PUBLISHED-TTL:PT1H
BEGIN:VTIMEZONE
TZID:America/New_York
BEGIN:DAYLIGHT
TZOFFSETFROM:-0500
TZOFFSETTO:-0400
TZNAME:EDT
DTSTART:20230312T070000
END:DAYLIGHT
BEGIN:STANDARD
TZOFFSETFROM:-0400
TZOFFSETTO:-0500
TZNAME:EST
DTSTART:20231105T060000
END:STANDARD
BEGIN:DAYLIGHT
TZOFFSETFROM:-0500
TZOFFSETTO:-0400
TZNAME:EDT
DTSTART:20240310T070000
END:DAYLIGHT
BEGIN:STANDARD
TZOFFSETFROM:-0400
TZOFFSETTO:-0500
TZNAME:EST
DTSTART:20241103T060000
END:STANDARD
BEGIN:DAYLIGHT
TZOFFSETFROM:-0500
TZOFFSETTO:-0400
TZNAME:EDT
DTSTART:20250309T070000
END:DAYLIGHT
BEGIN:STANDARD
TZOFFSETFROM:-0400
TZOFFSETTO:-0500
TZNAME:EST
DTSTART:20251102T060000
END:STANDARD
END:VTIMEZONE
BEGIN:VEVENT
DTSTART;TZID=America/New_York:20240419T190000
DTEND;TZID=America/New_York:20240419T201500
DTSTAMP:20260425T081633
CREATED:20240331T174331Z
LAST-MODIFIED:20240331T174649Z
UID:508-1713553200-1713557700@olmwellness.com
SUMMARY:Spirit-led Sound Bath Experience - Full Pink Moon Flower Mandala Circle
DESCRIPTION:Mandalas are believed to represent different aspects of the Universe and are used as instruments of meditation and symbols of prayer. In this Sound Bath we will create a beautiful fresh flower Mandala together\, followed by a Sacred Sound Bath. \nOur Spirit-led sound bath is not scripted and is different from any other sound bath out there. \nDuring this unique experience\, Shelley connects with Spirit\, Angels\, and universal energy\, asking for guidance and wisdom to bring healing\, relaxation\, release and Spiritual nourishment to participants. \nShe may serenade you with the healing sound of singing bowls\, chimes\, rattles\, gongs\, drums\, energy work\, and guided meditation as directed by Spirit. To accompany these instruments and deepen the experience\, Shelley uses her angelic voice to sing\, and vocalize mantras to synergize healing. \nAll sound baths are unique and one-of-a-kind experiences. Never two of the same. Shelley’s sound baths are intuitive\, and Spirit guided to meet all individuals in attendance at the level they require. \nBring a mat\, blanket\, pillow\, anything that will help you to get comfortable and slip into a state of bliss. \nFeel free to bring a crystal or any other personal or sacred item you would like to infuse with the combined energy of the sound bath. \nPlease note: Tickets are non-refundable and non-transferable. \n  \nSign-up below: \nhttps://www.eventbrite.com/e/spirit-led-sound-bath-experience-full-pink-moon-flower-mandala-circle-tickets-860091596117?utm-campaign=social&utm-content=attendeeshare&utm-medium=discovery&utm-term=listing&utm-source=cp&aff=ebdsshcopyurl
URL:https://olmwellness.com/event/spirit-led-sound-bath-experience-full-pink-moon-flower-mandala-circle/
LOCATION:Soul Sanctuary\, 808 Tiogue Ave\, Coventry\, RI\, RI\, 02816\, United States
ATTACH;FMTTYPE=image/jpeg:https://olmwellness.com/wp-content/uploads/2024/03/Screenshot_20240331_133934_Photos.jpg
END:VEVENT
END:VCALENDAR