BEGIN:VCALENDAR
VERSION:2.0
PRODID:-//Olm Wellness - ECPv6.15.20//NONSGML v1.0//EN
CALSCALE:GREGORIAN
METHOD:PUBLISH
X-ORIGINAL-URL:https://olmwellness.com
X-WR-CALDESC:Events for Olm Wellness
REFRESH-INTERVAL;VALUE=DURATION:PT1H
X-Robots-Tag:noindex
X-PUBLISHED-TTL:PT1H
BEGIN:VTIMEZONE
TZID:America/New_York
BEGIN:DAYLIGHT
TZOFFSETFROM:-0500
TZOFFSETTO:-0400
TZNAME:EDT
DTSTART:20230312T070000
END:DAYLIGHT
BEGIN:STANDARD
TZOFFSETFROM:-0400
TZOFFSETTO:-0500
TZNAME:EST
DTSTART:20231105T060000
END:STANDARD
BEGIN:DAYLIGHT
TZOFFSETFROM:-0500
TZOFFSETTO:-0400
TZNAME:EDT
DTSTART:20240310T070000
END:DAYLIGHT
BEGIN:STANDARD
TZOFFSETFROM:-0400
TZOFFSETTO:-0500
TZNAME:EST
DTSTART:20241103T060000
END:STANDARD
BEGIN:DAYLIGHT
TZOFFSETFROM:-0500
TZOFFSETTO:-0400
TZNAME:EDT
DTSTART:20250309T070000
END:DAYLIGHT
BEGIN:STANDARD
TZOFFSETFROM:-0400
TZOFFSETTO:-0500
TZNAME:EST
DTSTART:20251102T060000
END:STANDARD
END:VTIMEZONE
BEGIN:VEVENT
DTSTART;TZID=America/New_York:20240216T190000
DTEND;TZID=America/New_York:20240216T201500
DTSTAMP:20260425T114523
CREATED:20240118T175712Z
LAST-MODIFIED:20240118T175712Z
UID:493-1708110000-1708114500@olmwellness.com
SUMMARY:Spirit Led Sound Bath Experience to Open and Heal the Heart Chakra
DESCRIPTION:Relax and restore as you are bathed in sound by an amazing sound healer. \nThis month we will be concentrating on opening and healing our Heart Chakra. The Heart Chakra is the center of love.  It governs self-love and love to others as well as compassion\, empathy and forgiveness. \nMy Spirit-led sound bath is not scripted and is different from any other sound bath out there.\n\nDuring this unique experience\, Shelley connects with Spirit\, Angels\, and universal energy\, asking for guidance and wisdom to bring healing\, relaxation\, release and Spiritual nourishment to participants.\n\nShe may serenade you with the healing sound of singing bowls\, chimes\, rattles\, gongs\, drums\, energy work\, and guided meditation as directed by Spirit. To accompany these instruments and deepen the experience\, Shelley uses her angelic voice to sing\, and vocalize mantras to synergize healing.\n\nAll sound baths are unique and one-of-a-kind experiences. Never two of the same. Shelley’s sound baths are intuitive\, and Spirit guided to meet all individuals in attendance at the level they require.\n\nBring a mat\, blanket\, pillow\, anything that will help you to get comfortable and slip into a state of bliss.\n\nFeel free to bring a crystal or any other personal or sacred item you would like to infuse with the combined energy of the sound bath.\nPlease note: Tickets are non-refundable and non-transferable.
URL:https://olmwellness.com/event/spirit-led-sound-bath-experience-to-open-and-heal-the-heart-chakra/
LOCATION:Soul Sanctuary\, 808 Tiogue Ave\, Coventry\, RI\, RI\, 02816\, United States
ATTACH;FMTTYPE=image/jpeg:https://olmwellness.com/wp-content/uploads/2022/08/original-3.jpeg
END:VEVENT
END:VCALENDAR