BEGIN:VCALENDAR
VERSION:2.0
PRODID:-//Olm Wellness - ECPv6.15.20//NONSGML v1.0//EN
CALSCALE:GREGORIAN
METHOD:PUBLISH
X-ORIGINAL-URL:https://olmwellness.com
X-WR-CALDESC:Events for Olm Wellness
REFRESH-INTERVAL;VALUE=DURATION:PT1H
X-Robots-Tag:noindex
X-PUBLISHED-TTL:PT1H
BEGIN:VTIMEZONE
TZID:America/New_York
BEGIN:DAYLIGHT
TZOFFSETFROM:-0500
TZOFFSETTO:-0400
TZNAME:EDT
DTSTART:20220313T070000
END:DAYLIGHT
BEGIN:STANDARD
TZOFFSETFROM:-0400
TZOFFSETTO:-0500
TZNAME:EST
DTSTART:20221106T060000
END:STANDARD
BEGIN:DAYLIGHT
TZOFFSETFROM:-0500
TZOFFSETTO:-0400
TZNAME:EDT
DTSTART:20230312T070000
END:DAYLIGHT
BEGIN:STANDARD
TZOFFSETFROM:-0400
TZOFFSETTO:-0500
TZNAME:EST
DTSTART:20231105T060000
END:STANDARD
BEGIN:DAYLIGHT
TZOFFSETFROM:-0500
TZOFFSETTO:-0400
TZNAME:EDT
DTSTART:20240310T070000
END:DAYLIGHT
BEGIN:STANDARD
TZOFFSETFROM:-0400
TZOFFSETTO:-0500
TZNAME:EST
DTSTART:20241103T060000
END:STANDARD
END:VTIMEZONE
BEGIN:VEVENT
DTSTART;TZID=America/New_York:20231014T183000
DTEND;TZID=America/New_York:20231014T194500
DTSTAMP:20260425T183431
CREATED:20230504T023320Z
LAST-MODIFIED:20230504T023617Z
UID:420-1697308200-1697312700@olmwellness.com
SUMMARY:Buti Yoga Glow
DESCRIPTION:Put on your whitest whites and neon colors and join Shelley under the black lights for this Glow in the Dark Yoga Event!  Buti Yoga is a mixture of tribal dance\, primal movement\, cardio bursts\, strength and conditioning and core work for all full-body workout. \nArrive 15 minutes early to decorate your body with glow in the dark paint and jewelry. \nPurchase your pass here!
URL:https://olmwellness.com/event/buti-yoga-glow-2/
LOCATION:YONO Yoga & Meditation\, 59 Church Street\, Willimantic\, CT\, 06226\, United States
ATTACH;FMTTYPE=image/jpeg:https://olmwellness.com/wp-content/uploads/2022/08/buti-zglow-scaled.jpg
END:VEVENT
END:VCALENDAR