BEGIN:VCALENDAR
VERSION:2.0
PRODID:-//Olm Wellness - ECPv6.15.20//NONSGML v1.0//EN
CALSCALE:GREGORIAN
METHOD:PUBLISH
X-ORIGINAL-URL:https://olmwellness.com
X-WR-CALDESC:Events for Olm Wellness
REFRESH-INTERVAL;VALUE=DURATION:PT1H
X-Robots-Tag:noindex
X-PUBLISHED-TTL:PT1H
BEGIN:VTIMEZONE
TZID:America/New_York
BEGIN:DAYLIGHT
TZOFFSETFROM:-0500
TZOFFSETTO:-0400
TZNAME:EDT
DTSTART:20220313T070000
END:DAYLIGHT
BEGIN:STANDARD
TZOFFSETFROM:-0400
TZOFFSETTO:-0500
TZNAME:EST
DTSTART:20221106T060000
END:STANDARD
BEGIN:DAYLIGHT
TZOFFSETFROM:-0500
TZOFFSETTO:-0400
TZNAME:EDT
DTSTART:20230312T070000
END:DAYLIGHT
BEGIN:STANDARD
TZOFFSETFROM:-0400
TZOFFSETTO:-0500
TZNAME:EST
DTSTART:20231105T060000
END:STANDARD
BEGIN:DAYLIGHT
TZOFFSETFROM:-0500
TZOFFSETTO:-0400
TZNAME:EDT
DTSTART:20240310T070000
END:DAYLIGHT
BEGIN:STANDARD
TZOFFSETFROM:-0400
TZOFFSETTO:-0500
TZNAME:EST
DTSTART:20241103T060000
END:STANDARD
END:VTIMEZONE
BEGIN:VEVENT
DTSTART;TZID=America/New_York:20230825T173000
DTEND;TZID=America/New_York:20230825T190000
DTSTAMP:20260425T213542
CREATED:20230429T023702Z
LAST-MODIFIED:20230628T160046Z
UID:414-1692984600-1692990000@olmwellness.com
SUMMARY:Buti\, Barre\, Bliss with Anna and Shelley
DESCRIPTION:Join Anna and Shelley for a full body trifecta! \n30 minutes of heart pumping Buti\, followed by 30 minutes of full body strength work and finishing with 30 minutes of stretch and sound healing. Leave class feeling stronger\, energized and full of bliss. \nSign up here!
URL:https://olmwellness.com/event/buti-barre-bliss-with-anna-and-shelley/
LOCATION:YONO Yoga & Meditation\, 59 Church Street\, Willimantic\, CT\, 06226\, United States
ATTACH;FMTTYPE=image/jpeg:https://olmwellness.com/wp-content/uploads/2023/04/anna-and-shelley.jpg
END:VEVENT
END:VCALENDAR