BEGIN:VCALENDAR
VERSION:2.0
PRODID:-//Olm Wellness - ECPv6.15.20//NONSGML v1.0//EN
CALSCALE:GREGORIAN
METHOD:PUBLISH
X-ORIGINAL-URL:https://olmwellness.com
X-WR-CALDESC:Events for Olm Wellness
REFRESH-INTERVAL;VALUE=DURATION:PT1H
X-Robots-Tag:noindex
X-PUBLISHED-TTL:PT1H
BEGIN:VTIMEZONE
TZID:America/New_York
BEGIN:DAYLIGHT
TZOFFSETFROM:-0500
TZOFFSETTO:-0400
TZNAME:EDT
DTSTART:20220313T070000
END:DAYLIGHT
BEGIN:STANDARD
TZOFFSETFROM:-0400
TZOFFSETTO:-0500
TZNAME:EST
DTSTART:20221106T060000
END:STANDARD
BEGIN:DAYLIGHT
TZOFFSETFROM:-0500
TZOFFSETTO:-0400
TZNAME:EDT
DTSTART:20230312T070000
END:DAYLIGHT
BEGIN:STANDARD
TZOFFSETFROM:-0400
TZOFFSETTO:-0500
TZNAME:EST
DTSTART:20231105T060000
END:STANDARD
BEGIN:DAYLIGHT
TZOFFSETFROM:-0500
TZOFFSETTO:-0400
TZNAME:EDT
DTSTART:20240310T070000
END:DAYLIGHT
BEGIN:STANDARD
TZOFFSETFROM:-0400
TZOFFSETTO:-0500
TZNAME:EST
DTSTART:20241103T060000
END:STANDARD
END:VTIMEZONE
BEGIN:VEVENT
DTSTART;TZID=America/New_York:20230818T190000
DTEND;TZID=America/New_York:20230818T201500
DTSTAMP:20260425T213542
CREATED:20230427T194455Z
LAST-MODIFIED:20230723T213651Z
UID:378-1692385200-1692389700@olmwellness.com
SUMMARY:Spirit-led Sound Bath & Meditative Experience
DESCRIPTION:Relax and restore as you experience a sound bath like no other. \nShelley will serenade you with the healing sound of singing bowls\, chimes\, rattles\, gongs\, drums\, energy work\, and guided meditation. To accompany these instruments and deepen the experience\, the Shelley uses her angelic voice to\, tone\, sing\, and vocalize mantras to synergize healing.  Sometimes bowls will be placed directly on the body for enhanced healing energy. \nAll sound baths are unique and one-of-a-kind experiences. Never two of the same. Shelley’s sound baths are intuitive\, and Spirit guided to meet all individuals in attendance at the level they require. \nBring a mat\, blanket\, pillow\, anything that will help you to get comfortable and slip into a state of bliss. \nFeel free to bring a crystal or any other personal or sacred item you would like to infuse with the combined energy of the sound bath. \nSpace is limited!  \nRegister here! \nPlease note: Tickets are non-refundable and non-transferable.
URL:https://olmwellness.com/event/sound-bath-duet-with-the-2shells-2/
LOCATION:Soul Sanctuary\, 808 Tiogue Ave\, Coventry\, RI\, RI\, 02816\, United States
ATTACH;FMTTYPE=image/jpeg:https://olmwellness.com/wp-content/uploads/2022/08/full-moon-soundbath.jpg
END:VEVENT
END:VCALENDAR