BEGIN:VCALENDAR
VERSION:2.0
PRODID:-//Olm Wellness - ECPv6.15.20//NONSGML v1.0//EN
CALSCALE:GREGORIAN
METHOD:PUBLISH
X-ORIGINAL-URL:https://olmwellness.com
X-WR-CALDESC:Events for Olm Wellness
REFRESH-INTERVAL;VALUE=DURATION:PT1H
X-Robots-Tag:noindex
X-PUBLISHED-TTL:PT1H
BEGIN:VTIMEZONE
TZID:America/New_York
BEGIN:DAYLIGHT
TZOFFSETFROM:-0500
TZOFFSETTO:-0400
TZNAME:EDT
DTSTART:20220313T070000
END:DAYLIGHT
BEGIN:STANDARD
TZOFFSETFROM:-0400
TZOFFSETTO:-0500
TZNAME:EST
DTSTART:20221106T060000
END:STANDARD
BEGIN:DAYLIGHT
TZOFFSETFROM:-0500
TZOFFSETTO:-0400
TZNAME:EDT
DTSTART:20230312T070000
END:DAYLIGHT
BEGIN:STANDARD
TZOFFSETFROM:-0400
TZOFFSETTO:-0500
TZNAME:EST
DTSTART:20231105T060000
END:STANDARD
BEGIN:DAYLIGHT
TZOFFSETFROM:-0500
TZOFFSETTO:-0400
TZNAME:EDT
DTSTART:20240310T070000
END:DAYLIGHT
BEGIN:STANDARD
TZOFFSETFROM:-0400
TZOFFSETTO:-0500
TZNAME:EST
DTSTART:20241103T060000
END:STANDARD
END:VTIMEZONE
BEGIN:VEVENT
DTSTART;TZID=America/New_York:20230803T180000
DTEND;TZID=America/New_York:20230803T203000
DTSTAMP:20260425T213542
CREATED:20230518T193748Z
LAST-MODIFIED:20230518T193748Z
UID:432-1691085600-1691094600@olmwellness.com
SUMMARY:Full Moon Candle Magic\, Sound & Ceremony
DESCRIPTION:Join Anna & Shelley for an evening of restorative yoga\, sound healing\, reiki and full moon magic! \nThe powers of nature are at their peak during a full moon making these enchanting nights an opportune time to set positive affirmations. \nIn this workshop we’ll practice restorative yoga to relax the physical body and open the mind. Each student will receive a candle to personalize and take home. Students will be guided on how to use their candle during the moon cycle. \nPurchase your pass here!\nhttps://schedulebliss.com/yono/?tt=16877
URL:https://olmwellness.com/event/full-moon-candle-magic-sound-ceremony/
LOCATION:YONO Yoga & Meditation\, 59 Church Street\, Willimantic\, CT\, 06226\, United States
ATTACH;FMTTYPE=image/jpeg:https://olmwellness.com/wp-content/uploads/2023/05/candle-magic.jpg
END:VEVENT
END:VCALENDAR